BEGIN:VCALENDAR
VERSION:2.0
PRODID:-//wp-events-plugin.com//7.2.3.1//EN
BEGIN:VEVENT
UID:6023@foresthill-association.com
DTSTART;TZID=Africa/Abidjan;VALUE=DATE:20250912
DTEND;TZID=Africa/Abidjan;VALUE=DATE:20250913
DTSTAMP:20250902T212446Z
URL:https://foresthill-association.com/events/closed-for-renovation-5/
SUMMARY:CLOSED FOR RENOVATION
DESCRIPTION:
CATEGORIES:FH Association
END:VEVENT
BEGIN:VTIMEZONE
TZID:Africa/Abidjan
X-LIC-LOCATION:Africa/Abidjan
BEGIN:STANDARD
DTSTART:20240912T000000
TZOFFSETFROM:+0000
TZOFFSETTO:+0000
TZNAME:GMT
END:STANDARD
END:VTIMEZONE
END:VCALENDAR