BEGIN:VCALENDAR
VERSION:2.0
PRODID:-//wp-events-plugin.com//7.2.3.1//EN
BEGIN:VEVENT
UID:6018@foresthill-association.com
DTSTART;TZID=Africa/Abidjan;VALUE=DATE:20250908
DTEND;TZID=Africa/Abidjan;VALUE=DATE:20250909
DTSTAMP:20250902T194653Z
URL:https://foresthill-association.com/events/closed-for-renovation/
SUMMARY:CLOSED FOR RENOVATION
DESCRIPTION:
CATEGORIES:FH Association
END:VEVENT
BEGIN:VTIMEZONE
TZID:Africa/Abidjan
X-LIC-LOCATION:Africa/Abidjan
BEGIN:STANDARD
DTSTART:20240908T000000
TZOFFSETFROM:+0000
TZOFFSETTO:+0000
TZNAME:GMT
END:STANDARD
END:VTIMEZONE
END:VCALENDAR