BEGIN:VCALENDAR
VERSION:2.0
PRODID:-//wp-events-plugin.com//7.2.3.1//EN
BEGIN:VEVENT
UID:6086@foresthill-association.com
DTSTART;TZID=Africa/Abidjan:20251105T173000
DTEND;TZID=Africa/Abidjan:20251105T190000
DTSTAMP:20251103T202334Z
URL:https://foresthill-association.com/events/directors-meeting-w-bridget-
 maley/
SUMMARY:Directors Meeting w/ Bridget Maley
DESCRIPTION:
CATEGORIES:FH Association
END:VEVENT
BEGIN:VTIMEZONE
TZID:Africa/Abidjan
X-LIC-LOCATION:Africa/Abidjan
BEGIN:STANDARD
DTSTART:20241105T173000
TZOFFSETFROM:+0000
TZOFFSETTO:+0000
TZNAME:GMT
END:STANDARD
END:VTIMEZONE
END:VCALENDAR