BEGIN:VCALENDAR
VERSION:2.0
PRODID:-//wp-events-plugin.com//7.2.3.1//EN
BEGIN:VEVENT
UID:6007@foresthill-association.com
DTSTART;TZID=Africa/Abidjan:20250923T100000
DTEND;TZID=Africa/Abidjan:20250923T110000
DTSTAMP:20250523T010921Z
URL:https://foresthill-association.com/events/fabs-flexibility-agility-bal
 ance-strength-4/
SUMMARY:FABS - Flexibility\, Agility\, Balance\, Strength
DESCRIPTION:(A. Rieger Matthews)\n\nAll ages and abilities welcome
CATEGORIES:FH Association
END:VEVENT
BEGIN:VTIMEZONE
TZID:Africa/Abidjan
X-LIC-LOCATION:Africa/Abidjan
BEGIN:STANDARD
DTSTART:20240923T100000
TZOFFSETFROM:+0000
TZOFFSETTO:+0000
TZNAME:GMT
END:STANDARD
END:VTIMEZONE
END:VCALENDAR