BEGIN:VCALENDAR
VERSION:2.0
PRODID:-//wp-events-plugin.com//7.2.3.1//EN
BEGIN:VEVENT
UID:5900@foresthill-association.com
DTSTART:20241113T030000Z
DTEND:20241113T040000Z
DTSTAMP:20241014T022509Z
URL:https://foresthill-association.com/events/fha-board-of-directors-meeti
 ng-9/
SUMMARY:FHA Board of Directors Meeting
DESCRIPTION:To commemorate Veterans Day\, the regular Board meeting which t
 akes place on the second Monday of the month has been moved to Tuesday\, N
 ovember 12th.  A resolution was passed at a previous meeting to not meet 
 on holidays.
CATEGORIES:FH Association
END:VEVENT
END:VCALENDAR