BEGIN:VCALENDAR
VERSION:2.0
PRODID:-//wp-events-plugin.com//7.2.3.1//EN
BEGIN:VEVENT
UID:6029@foresthill-association.com
DTSTART:20251019T200000Z
DTEND:20251019T220000Z
DTSTAMP:20251016T173127Z
URL:https://foresthill-association.com/events/fha-halloween/
SUMMARY:FHA HALLOWEEN
DESCRIPTION:Members Only
CATEGORIES:FH Clubhouse
END:VEVENT
END:VCALENDAR