BEGIN:VCALENDAR
VERSION:2.0
PRODID:-//wp-events-plugin.com//7.2.3.1//EN
BEGIN:VEVENT
UID:5897@foresthill-association.com
DTSTART;TZID=Africa/Abidjan:20240921T120000
DTEND;TZID=Africa/Abidjan:20240921T140000
DTSTAMP:20240824T183642Z
URL:https://foresthill-association.com/events/forest-hill-association-3/
SUMMARY:Forest Hill Association
DESCRIPTION:FHA Members Only Summer BBQ
CATEGORIES:FH Association
END:VEVENT
BEGIN:VTIMEZONE
TZID:Africa/Abidjan
X-LIC-LOCATION:Africa/Abidjan
BEGIN:STANDARD
DTSTART:20230922T120000
TZOFFSETFROM:+0000
TZOFFSETTO:+0000
TZNAME:GMT
END:STANDARD
END:VTIMEZONE
END:VCALENDAR