BEGIN:VCALENDAR
VERSION:2.0
PRODID:-//wp-events-plugin.com//7.2.3.1//EN
BEGIN:VEVENT
UID:3705@foresthill-association.com
DTSTART:20211205T180000Z
DTEND:20211205T220000Z
DTSTAMP:20211201T223506Z
URL:https://foresthill-association.com/events/forest-hill-garden-club-2/
SUMMARY:Forest Hill Garden Club
DESCRIPTION:Deck the Halls - Presidents' Luncheon
CATEGORIES:FH Garden Club
END:VEVENT
END:VCALENDAR