BEGIN:VCALENDAR
VERSION:2.0
PRODID:-//wp-events-plugin.com//7.2.3.1//EN
BEGIN:VEVENT
UID:6711@foresthill-association.com
DTSTART:20280306T190000Z
DTEND:20280306T210000Z
DTSTAMP:20251103T204721Z
URL:https://foresthill-association.com/events/forest-hill-garden-club-2028
 -03-06/
SUMMARY:Garden Club Monthly Board Meeting
DESCRIPTION:
CATEGORIES:FH Garden Club
END:VEVENT
END:VCALENDAR