BEGIN:VCALENDAR
VERSION:2.0
PRODID:-//wp-events-plugin.com//7.2.3.1//EN
BEGIN:VEVENT
UID:6741@foresthill-association.com
DTSTART:20300902T190000Z
DTEND:20300902T210000Z
DTSTAMP:20251103T204721Z
URL:https://foresthill-association.com/events/forest-hill-garden-club-2030
 -09-02/
SUMMARY:Garden Club Monthly Board Meeting
DESCRIPTION:
CATEGORIES:FH Garden Club
END:VEVENT
END:VCALENDAR