BEGIN:VCALENDAR
VERSION:2.0
PRODID:-//wp-events-plugin.com//7.2.3.1//EN
BEGIN:VEVENT
UID:6026@foresthill-association.com
DTSTART;TZID=Africa/Abidjan:20260424T000000
DTEND;TZID=Africa/Abidjan:20260424T000000
DTSTAMP:20250916T175734Z
URL:https://foresthill-association.com/events/forest-hill-garden-club-31/
SUMMARY:Forest Hill Garden Club
DESCRIPTION:Set Up - Spring Fling Clothing Swap
CATEGORIES:FH Garden Club
END:VEVENT
BEGIN:VTIMEZONE
TZID:Africa/Abidjan
X-LIC-LOCATION:Africa/Abidjan
BEGIN:STANDARD
DTSTART:20250424T000000
TZOFFSETFROM:+0000
TZOFFSETTO:+0000
TZNAME:GMT
END:STANDARD
END:VTIMEZONE
END:VCALENDAR