BEGIN:VCALENDAR
VERSION:2.0
PRODID:-//wp-events-plugin.com//7.2.3.1//EN
BEGIN:VEVENT
UID:6028@foresthill-association.com
DTSTART;TZID=Africa/Abidjan;VALUE=DATE:20260426
DTEND;TZID=Africa/Abidjan;VALUE=DATE:20260427
DTSTAMP:20250916T180752Z
URL:https://foresthill-association.com/events/forest-hill-garden-club-33/
SUMMARY:Forest Hill Garden Club
DESCRIPTION:Break Down - Spring Fling Clothing Swap
CATEGORIES:FH Garden Club
END:VEVENT
BEGIN:VTIMEZONE
TZID:Africa/Abidjan
X-LIC-LOCATION:Africa/Abidjan
BEGIN:STANDARD
DTSTART:20250426T000000
TZOFFSETFROM:+0000
TZOFFSETTO:+0000
TZNAME:GMT
END:STANDARD
END:VTIMEZONE
END:VCALENDAR