BEGIN:VCALENDAR
VERSION:2.0
PRODID:-//wp-events-plugin.com//7.2.3.1//EN
BEGIN:VEVENT
UID:3707@foresthill-association.com
DTSTART:20220528T020000Z
DTEND:20220528T070000Z
DTSTAMP:20210706T064451Z
URL:https://foresthill-association.com/events/forest-hill-garden-club-4/
SUMMARY:Forest Hill Garden Club
DESCRIPTION:Year End President's Party (Old Goat)
CATEGORIES:FH Garden Club
END:VEVENT
END:VCALENDAR