BEGIN:VCALENDAR
VERSION:2.0
PRODID:-//wp-events-plugin.com//7.2.3.1//EN
BEGIN:VEVENT
UID:3595@foresthill-association.com
DTSTART:20251103T190000Z
DTEND:20301104T210000Z
DTSTAMP:20251103T204721Z
URL:https://foresthill-association.com/event-recurring/forest-hill-garden-
 club/
SUMMARY:Garden Club Monthly Board Meeting
DESCRIPTION:
CATEGORIES:FH Garden Club
END:VEVENT
END:VCALENDAR