BEGIN:VCALENDAR
VERSION:2.0
PRODID:-//wp-events-plugin.com//7.2.3.1//EN
BEGIN:VEVENT
UID:6862@foresthill-association.com
DTSTART;TZID=Africa/Abidjan:20300314T180000
DTEND;TZID=Africa/Abidjan:20300314T190000
DTSTAMP:20260423T105809Z
URL:https://foresthill-association.com/events/girl-scout-troop-62759-month
 ly-meeting/
SUMMARY:Girl Scout Troop 62759 Monthly Meeting
DESCRIPTION:(A. JAURE O'LEARY)
CATEGORIES:FH Association
END:VEVENT
BEGIN:VTIMEZONE
TZID:Africa/Abidjan
X-LIC-LOCATION:Africa/Abidjan
BEGIN:STANDARD
DTSTART:20290314T180000
TZOFFSETFROM:+0000
TZOFFSETTO:+0000
TZNAME:GMT
END:STANDARD
END:VTIMEZONE
END:VCALENDAR