BEGIN:VCALENDAR
VERSION:2.0
PRODID:-//wp-events-plugin.com//7.2.3.1//EN
BEGIN:VEVENT
UID:2316@foresthill-association.com
DTSTART:20160702T013000Z
DTEND:20160702T063000Z
DTSTAMP:20201120T225529Z
URL:https://foresthill-association.com/events/kehillah-2016-07-01/
SUMMARY:PRIVATE EVENT
DESCRIPTION:(Kehillah-Goldberg)
CATEGORIES:FH Clubhouse
END:VEVENT
END:VCALENDAR