BEGIN:VCALENDAR
VERSION:2.0
PRODID:-//wp-events-plugin.com//7.2.3.1//EN
BEGIN:VEVENT
UID:3716@foresthill-association.com
DTSTART:20220612T003000Z
DTEND:20220612T053000Z
DTSTAMP:20220430T233816Z
URL:https://foresthill-association.com/events/private-event-224/
SUMMARY:PRIVATE EVENT
DESCRIPTION:(M. BARTON)
CATEGORIES:FH Clubhouse
END:VEVENT
END:VCALENDAR