BEGIN:VCALENDAR
VERSION:2.0
PRODID:-//wp-events-plugin.com//7.2.3.1//EN
BEGIN:VEVENT
UID:5902@foresthill-association.com
DTSTART:20241215T203000Z
DTEND:20241216T003000Z
DTSTAMP:20241021T202816Z
URL:https://foresthill-association.com/events/private-event-276/
SUMMARY:PRIVATE EVENT
DESCRIPTION:(K. GOGIN)
CATEGORIES:FH Clubhouse
END:VEVENT
END:VCALENDAR