BEGIN:VCALENDAR
VERSION:2.0
PRODID:-//wp-events-plugin.com//7.2.3.1//EN
BEGIN:VEVENT
UID:5904@foresthill-association.com
DTSTART:20250104T180000Z
DTEND:20250104T230000Z
DTSTAMP:20241220T194036Z
URL:https://foresthill-association.com/events/private-event-277/
SUMMARY:PRIVATE EVENT
DESCRIPTION:(M. HANLEY)
CATEGORIES:FH Clubhouse
END:VEVENT
END:VCALENDAR