BEGIN:VCALENDAR
VERSION:2.0
PRODID:-//wp-events-plugin.com//7.2.3.1//EN
BEGIN:VEVENT
UID:6002@foresthill-association.com
DTSTART:20250505T230000Z
DTEND:20250506T050000Z
DTSTAMP:20250503T175109Z
URL:https://foresthill-association.com/events/private-event-285/
SUMMARY:PRIVATE EVENT
DESCRIPTION:(S. WARD)
CATEGORIES:FH Clubhouse
END:VEVENT
END:VCALENDAR