BEGIN:VCALENDAR
VERSION:2.0
PRODID:-//wp-events-plugin.com//7.2.3.1//EN
BEGIN:VEVENT
UID:6025@foresthill-association.com
DTSTART:20251202T160000Z
DTEND:20251202T230000Z
DTSTAMP:20250916T175350Z
URL:https://foresthill-association.com/events/private-event-291/
SUMMARY:PRIVATE EVENT
DESCRIPTION:(M. SO)
CATEGORIES:FH Clubhouse
END:VEVENT
END:VCALENDAR