BEGIN:VCALENDAR
VERSION:2.0
PRODID:-//wp-events-plugin.com//7.2.3.1//EN
BEGIN:VEVENT
UID:6030@foresthill-association.com
DTSTART:20251206T180000Z
DTEND:20251206T210000Z
DTSTAMP:20251103T205348Z
URL:https://foresthill-association.com/events/private-event-292/
SUMMARY:PRIVATE EVENT
DESCRIPTION:(K. GOGIN)
CATEGORIES:FH Clubhouse
END:VEVENT
END:VCALENDAR