BEGIN:VCALENDAR
VERSION:2.0
PRODID:-//wp-events-plugin.com//7.2.3.1//EN
BEGIN:VEVENT
UID:6031@foresthill-association.com
DTSTART:20251017T013000Z
DTEND:20251017T053000Z
DTSTAMP:20251014T201103Z
URL:https://foresthill-association.com/events/private-event-293/
SUMMARY:PRIVATE EVENT
DESCRIPTION:(J. WONG)
CATEGORIES:FH Clubhouse
END:VEVENT
END:VCALENDAR