BEGIN:VCALENDAR
VERSION:2.0
PRODID:-//wp-events-plugin.com//7.2.3.1//EN
BEGIN:VEVENT
UID:6001@foresthill-association.com
DTSTART:20251004T230000Z
DTEND:20251005T070000Z
DTSTAMP:20250826T181344Z
URL:https://foresthill-association.com/events/private-event-contract-out-1
 2/
SUMMARY:PRIVATE EVENT
DESCRIPTION:(O'NEILL)
CATEGORIES:FH Clubhouse
END:VEVENT
END:VCALENDAR