BEGIN:VCALENDAR
VERSION:2.0
PRODID:-//wp-events-plugin.com//7.2.3.1//EN
BEGIN:VEVENT
UID:6084@foresthill-association.com
DTSTART:20251102T013000Z
DTEND:20251102T053000Z
DTSTAMP:20251103T205252Z
URL:https://foresthill-association.com/events/private-event-contract-out-1
 3/
SUMMARY:PRIVATE EVENT
DESCRIPTION:(T. POLLARO)
CATEGORIES:FH Clubhouse
END:VEVENT
END:VCALENDAR