BEGIN:VCALENDAR
VERSION:2.0
PRODID:-//wp-events-plugin.com//7.2.3.1//EN
BEGIN:VEVENT
UID:6085@foresthill-association.com
DTSTART:20260128T000000Z
DTEND:20260128T050000Z
DTSTAMP:20251104T193533Z
URL:https://foresthill-association.com/events/private-event-contract-out-1
 4/
SUMMARY:PRIVATE EVENT
DESCRIPTION:(SFW)
CATEGORIES:FH Clubhouse
END:VEVENT
END:VCALENDAR