BEGIN:VCALENDAR
VERSION:2.0
PRODID:-//wp-events-plugin.com//7.2.3.1//EN
BEGIN:VEVENT
UID:5909@foresthill-association.com
DTSTART;TZID=Africa/Abidjan:20250112T100000
DTEND;TZID=Africa/Abidjan:20250112T140000
DTSTAMP:20241220T194231Z
URL:https://foresthill-association.com/events/private-event-contract-out-2
 /
SUMMARY:PRIVATE EVENT
DESCRIPTION:(R. PIKE)
CATEGORIES:FH Clubhouse
END:VEVENT
BEGIN:VTIMEZONE
TZID:Africa/Abidjan
X-LIC-LOCATION:Africa/Abidjan
BEGIN:STANDARD
DTSTART:20240113T100000
TZOFFSETFROM:+0000
TZOFFSETTO:+0000
TZNAME:GMT
END:STANDARD
END:VTIMEZONE
END:VCALENDAR