BEGIN:VCALENDAR
VERSION:2.0
PRODID:-//wp-events-plugin.com//7.2.3.1//EN
BEGIN:VEVENT
UID:5910@foresthill-association.com
DTSTART:20250118T190000Z
DTEND:20250118T230000Z
DTSTAMP:20241211T214852Z
URL:https://foresthill-association.com/events/private-event-contract-out-3
 /
SUMMARY:PRIVATE EVENT
DESCRIPTION:(G. WONG)
CATEGORIES:FH Clubhouse
END:VEVENT
END:VCALENDAR