BEGIN:VCALENDAR
VERSION:2.0
PRODID:-//wp-events-plugin.com//7.2.3.1//EN
BEGIN:VEVENT
UID:5912@foresthill-association.com
DTSTART:20250816T230000Z
DTEND:20250817T070000Z
DTSTAMP:20250228T214546Z
URL:https://foresthill-association.com/events/private-event-contract-out-4
 /
SUMMARY:PRIVATE EVENT
DESCRIPTION:(N. RAKHLIN)
CATEGORIES:FH Clubhouse
END:VEVENT
END:VCALENDAR