BEGIN:VCALENDAR
VERSION:2.0
PRODID:-//wp-events-plugin.com//7.2.3.1//EN
BEGIN:VEVENT
UID:5914@foresthill-association.com
DTSTART:20250123T223000Z
DTEND:20250124T033000Z
DTSTAMP:20250108T220003Z
URL:https://foresthill-association.com/events/private-event-contract-out-6
 /
SUMMARY:PRIVATE EVENT
DESCRIPTION:(K. BERRINI)
CATEGORIES:FH Clubhouse
END:VEVENT
END:VCALENDAR