BEGIN:VCALENDAR
VERSION:2.0
PRODID:-//wp-events-plugin.com//7.2.3.1//EN
BEGIN:VEVENT
UID:3709@foresthill-association.com
DTSTART:20210914T140000Z
DTEND:20210915T063000Z
DTSTAMP:20210719T171114Z
URL:https://foresthill-association.com/events/recall-election-day/
SUMMARY:Election Day
DESCRIPTION:Vote in person between the hours of 7am-8pm.\n\nPrecinct Number
  9715
CATEGORIES:FH Association,FH Clubhouse
END:VEVENT
END:VCALENDAR