BEGIN:VCALENDAR
VERSION:2.0
PRODID:-//wp-events-plugin.com//7.2.3.1//EN
BEGIN:VEVENT
UID:3710@foresthill-association.com
DTSTART;VALUE=DATE:20210915
DTEND;VALUE=DATE:20210918
DTSTAMP:20210719T171203Z
URL:https://foresthill-association.com/events/recall-election-polling-plac
 e-2/
SUMMARY:Pick up:  Recall Election Polling Place
DESCRIPTION:
CATEGORIES:FH Association
END:VEVENT
END:VCALENDAR