BEGIN:VCALENDAR
VERSION:2.0
PRODID:-//wp-events-plugin.com//7.2.3.1//EN
BEGIN:VEVENT
UID:3737@foresthill-association.com
DTSTART:20220927T030000Z
DTEND:20221129T053000Z
DTSTAMP:20220412T151706Z
URL:https://foresthill-association.com/event-recurring/wtpcc-west-of-twin-
 peaks-central-council-meeting-2/
SUMMARY:WTPCC - West of Twin Peaks Central Council Meeting
DESCRIPTION:Open to all West of Twin Peaks residents.  Please visit http:/
 /www.westoftwinpeaks.org/
CATEGORIES:FH Association
END:VEVENT
END:VCALENDAR